BEGIN:VCALENDAR
VERSION:2.0
PRODID:-//Plone.org//NONSGML plone.app.event//EN
X-WR-TIMEZONE:America/Sao_Paulo
BEGIN:VEVENT
SUMMARY:Você quer ir? como chegar? I seminário sobre alternativas de tra
 nsporte\, mobilidade e acessibilidade para a região metropolitana de Belo
  Horizonte em [ Auditorio Nobre do CAD 1]
DTSTART;TZID=America/Sao_Paulo;VALUE=DATE-TIME:20220719T080000
DTEND;TZID=America/Sao_Paulo;VALUE=DATE-TIME:20220720T120000
DTSTAMP;VALUE=DATE-TIME:20260422T044931Z
UID:887d921cc10845358f93d4a5986a2cbd@150.164.76.86:8080
CREATED;VALUE=DATE-TIME:20220621T192710Z
DESCRIPTION:<p>O evento terá início no dia 19/07/22\, às 8hs da manhã\
 , terminando às 18hs\, com intervalo de almoço. No dia 20/07/22\, terá 
 início às 8hs da manhã e terminará ao meio dia. Será necessário equi
 pamento de som\, com microfone\, e equipamento de projeção. A organizaç
 ão do evento está verificando se haverá transmissão ao vivo pelo Youtu
 be da PROEX ou se haverá apenas gravação do evento\, para posterior lib
 eração das imagens nas redes sociais\, estes detalhes serão esclarecido
 s na elaboração do check list com a equipe da CAC.</p>
LAST-MODIFIED;VALUE=DATE-TIME:20220715T194720Z
URL:http://150.164.76.86:8080/cac/agenda/13988411737987811404
END:VEVENT
BEGIN:VTIMEZONE
TZID:America/Sao_Paulo
X-LIC-LOCATION:America/Sao_Paulo
BEGIN:STANDARD
DTSTART;VALUE=DATE-TIME:20220219T230000
TZNAME:BRT
TZOFFSETFROM:-0200
TZOFFSETTO:-0300
END:STANDARD
END:VTIMEZONE
END:VCALENDAR
