BEGIN:VCALENDAR
VERSION:2.0
PRODID:-//Plone.org//NONSGML plone.app.event//EN
X-WR-TIMEZONE:America/Sao_Paulo
BEGIN:VEVENT
SUMMARY:Semana de Orientação do Estudante Internacional 2024/2 em [ Aren
 a da praça de serviços]
DTSTART;TZID=America/Sao_Paulo;VALUE=DATE-TIME:20250307T090000
DTEND;TZID=America/Sao_Paulo;VALUE=DATE-TIME:20250307T180000
DTSTAMP;VALUE=DATE-TIME:20260419T103156Z
UID:e74c6e5a245a4777adcdab8877cdce63@150.164.76.86:8080
CREATED;VALUE=DATE-TIME:20240808T124506Z
DESCRIPTION:Arena da Praça de Serviços para realização das atividades 
 culturais da semana de Orientação do Estudante Internacional 2024/2.\nSe
 rá necessário uma caixa de som e um microfone.
LAST-MODIFIED;VALUE=DATE-TIME:20240808T154951Z
URL:http://150.164.76.86:8080/cac/agenda/13963631411866051841
END:VEVENT
BEGIN:VTIMEZONE
TZID:America/Sao_Paulo
X-LIC-LOCATION:America/Sao_Paulo
BEGIN:STANDARD
DTSTART;VALUE=DATE-TIME:20250215T230000
TZNAME:BRT
TZOFFSETFROM:-0200
TZOFFSETTO:-0300
END:STANDARD
END:VTIMEZONE
END:VCALENDAR
