BEGIN:VCALENDAR
VERSION:2.0
PRODID:-//Plone.org//NONSGML plone.app.event//EN
X-WR-TIMEZONE:America/Sao_Paulo
BEGIN:VEVENT
SUMMARY:Dia do Servidor Público - Recesso Escolar em [ Auditorio da Reito
 ria Saguao da Reitoria Gramado da Reitoria Arena da praça de serviços En
 torno da Praca de Servicos Auditorio Nobre do CAD 1 Auditorio 1A do CAD 1 
 Auditorio 2A do CAD 1 Auditorio A102 do Cad 2 Auditorio A104 do Cad 2 Audi
 tório B101/102 do CAD 3 Auditório B301 do CAD 3 Auditório B302 do CAD 3
  Auditório B106 do CAD3 Auditório B107 do CAD3 Outros espacos]
DTSTART;TZID=America/Sao_Paulo;VALUE=DATE-TIME:20231028T060000
DTEND;TZID=America/Sao_Paulo;VALUE=DATE-TIME:20231028T230000
DTSTAMP;VALUE=DATE-TIME:20260420T184259Z
UID:9efeb8f9f1af4795a0237ac912c5d0ef@150.164.76.86:8080
CREATED;VALUE=DATE-TIME:20221110T142128Z
DESCRIPTION:<p>Dia do servidor público</p>
LAST-MODIFIED;VALUE=DATE-TIME:20230111T201121Z
URL:http://150.164.76.86:8080/cac/agenda/13958001619481049975
END:VEVENT
BEGIN:VTIMEZONE
TZID:America/Sao_Paulo
X-LIC-LOCATION:America/Sao_Paulo
BEGIN:DAYLIGHT
DTSTART;VALUE=DATE-TIME:20231015T010000
TZNAME:BRST
TZOFFSETFROM:-0300
TZOFFSETTO:-0200
END:DAYLIGHT
END:VTIMEZONE
END:VCALENDAR
