BEGIN:VCALENDAR
VERSION:2.0
PRODID:-//Plone.org//NONSGML plone.app.event//EN
X-WR-TIMEZONE:America/Sao_Paulo
BEGIN:VEVENT
SUMMARY:Semana de Barragens 2020 em [ Auditorio Nobre do CAD 1]
DTSTART;TZID=America/Sao_Paulo;VALUE=DATE-TIME:20201126T080000
DTEND;TZID=America/Sao_Paulo;VALUE=DATE-TIME:20201204T220000
DTSTAMP;VALUE=DATE-TIME:20260424T145734Z
UID:cad5f54d88564327a614641ac81654d2@150.164.76.86:8080
CREATED;VALUE=DATE-TIME:20200303T151604Z
DESCRIPTION:<p>Evento sobre barragens a ser realizado em parceria CBDB/UFM
 G: abertura no CAD1 (Auditório Nobre e Mezanino\, 27/11 montagem\, 30/11 
 evento\, 01/12 desmontagem) e eventos no CAD3 (auditórios B101\, B102\, B
 106\, B107\, Hall Mezanino e Cantina: 26 e 27/11 montagem\, 30/11 a 04/12 
 evento\, 09 e 10/12 desmontagem).</p>
LAST-MODIFIED;VALUE=DATE-TIME:20230111T201108Z
URL:http://150.164.76.86:8080/cac/agenda/13944250475277682972
END:VEVENT
BEGIN:VTIMEZONE
TZID:America/Sao_Paulo
X-LIC-LOCATION:America/Sao_Paulo
BEGIN:DAYLIGHT
DTSTART;VALUE=DATE-TIME:20201018T010000
TZNAME:BRST
TZOFFSETFROM:-0300
TZOFFSETTO:-0200
END:DAYLIGHT
END:VTIMEZONE
END:VCALENDAR
