BEGIN:VCALENDAR
VERSION:2.0
PRODID:-//Plone.org//NONSGML plone.app.event//EN
X-WR-TIMEZONE:America/Sao_Paulo
BEGIN:VEVENT
SUMMARY:21ª Jornada de Extensão em [ Auditorio Nobre do CAD 1]
DTSTART;TZID=America/Sao_Paulo;VALUE=DATE-TIME:20220525T140000
DTEND;TZID=America/Sao_Paulo;VALUE=DATE-TIME:20220525T170000
DTSTAMP;VALUE=DATE-TIME:20260422T081605Z
UID:1712d6ab65a44ad18a59c52607950284@150.164.76.86:8080
CREATED;VALUE=DATE-TIME:20220216T175957Z
DESCRIPTION:Necessidade de:\n1 notebook para exibição de apresentação 
 de slides\nDisponibilidade de projeção de slides\n3 Microfones sorvete -
  ou compartível para perguntas do público\, para seminarista e para apre
 sentador/a.\nEm caso de microfone 'sorvete'\, um pedestal para o púlpito.
 \nImportante: o layout para apresentação não incluirá mesa\, e sim sof
 ás\, a serem transportados pela PROEX.
LAST-MODIFIED;VALUE=DATE-TIME:20220221T132116Z
URL:http://150.164.76.86:8080/cac/agenda/13936186162367734665
END:VEVENT
BEGIN:VTIMEZONE
TZID:America/Sao_Paulo
X-LIC-LOCATION:America/Sao_Paulo
BEGIN:STANDARD
DTSTART;VALUE=DATE-TIME:20220219T230000
TZNAME:BRT
TZOFFSETFROM:-0200
TZOFFSETTO:-0300
END:STANDARD
END:VTIMEZONE
END:VCALENDAR
