BEGIN:VCALENDAR
VERSION:2.0
PRODID:-//Plone.org//NONSGML plone.app.event//EN
X-WR-TIMEZONE:America/Sao_Paulo
BEGIN:VEVENT
SUMMARY:PicadeRRÓ UFMG em [ Arena da praça de serviços]
DTSTART;TZID=America/Sao_Paulo;VALUE=DATE-TIME:20220615T173000
DTEND;TZID=America/Sao_Paulo;VALUE=DATE-TIME:20220615T190000
DTSTAMP;VALUE=DATE-TIME:20260422T064745Z
UID:987390cfab204b27874feaec1b9d4e8d@150.164.76.86:8080
CREATED;VALUE=DATE-TIME:20220531T004816Z
DESCRIPTION:Equipamentos próprios:\n1) caixa de som de baixa voltagem\;\n
 2) computador pessoal.\n\nProgramação do evento:\n1) Entre 17h30 e 19h\,
  música e dança ao estilo forró.\n2) Aberto ao público interno e exter
 no à UFMG.\n3) Uso obrigatório de máscara durante todo o período do ev
 ento.
LAST-MODIFIED;VALUE=DATE-TIME:20220531T153456Z
URL:http://150.164.76.86:8080/cac/agenda/1393493755868479909
END:VEVENT
BEGIN:VTIMEZONE
TZID:America/Sao_Paulo
X-LIC-LOCATION:America/Sao_Paulo
BEGIN:STANDARD
DTSTART;VALUE=DATE-TIME:20220219T230000
TZNAME:BRT
TZOFFSETFROM:-0200
TZOFFSETTO:-0300
END:STANDARD
END:VTIMEZONE
END:VCALENDAR
