BEGIN:VCALENDAR
VERSION:2.0
PRODID:-//Plone.org//NONSGML plone.app.event//EN
X-WR-TIMEZONE:America/Sao_Paulo
BEGIN:VEVENT
SUMMARY:BANCA DE HETEROIDENTIFICAÇÃO em [ Auditório B101/102 do CAD 3 A
 uditório B106 do CAD3 Auditório B107 do CAD3]
DTSTART;TZID=America/Sao_Paulo;VALUE=DATE-TIME:20250225T070000
DTEND;TZID=America/Sao_Paulo;VALUE=DATE-TIME:20250226T190000
DTSTAMP;VALUE=DATE-TIME:20260419T132317Z
UID:3e9a5d1fa981468ca57d29db51a37bb8@150.164.76.86:8080
CREATED;VALUE=DATE-TIME:20250108T135656Z
DESCRIPTION:1ª CHAMADA DO SISU
LAST-MODIFIED;VALUE=DATE-TIME:20250108T143757Z
URL:http://150.164.76.86:8080/cac/agenda/13927124902465545732
END:VEVENT
BEGIN:VTIMEZONE
TZID:America/Sao_Paulo
X-LIC-LOCATION:America/Sao_Paulo
BEGIN:STANDARD
DTSTART;VALUE=DATE-TIME:20250215T230000
TZNAME:BRT
TZOFFSETFROM:-0200
TZOFFSETTO:-0300
END:STANDARD
END:VTIMEZONE
END:VCALENDAR
