BEGIN:VCALENDAR
VERSION:2.0
PRODID:-//Plone.org//NONSGML plone.app.event//EN
X-WR-TIMEZONE:America/Sao_Paulo
BEGIN:VEVENT
SUMMARY:Aniversário UFMG em [ Auditorio da Reitoria Auditorio Nobre do CA
 D 1]
DTSTART;TZID=America/Sao_Paulo;VALUE=DATE-TIME:20200908T080000
DTEND;TZID=America/Sao_Paulo;VALUE=DATE-TIME:20200908T220000
DTSTAMP;VALUE=DATE-TIME:20260424T183505Z
UID:27fb973df50849e790885e91a88bfcfa@150.164.76.86:8080
CREATED;VALUE=DATE-TIME:20200305T154728Z
DESCRIPTION:<p>Aniversário UFMG.</p>
LAST-MODIFIED;VALUE=DATE-TIME:20200305T154747Z
URL:http://150.164.76.86:8080/cac/agenda/1391638188950127191
END:VEVENT
BEGIN:VTIMEZONE
TZID:America/Sao_Paulo
X-LIC-LOCATION:America/Sao_Paulo
BEGIN:STANDARD
DTSTART;VALUE=DATE-TIME:20200215T230000
TZNAME:BRT
TZOFFSETFROM:-0200
TZOFFSETTO:-0300
END:STANDARD
END:VTIMEZONE
END:VCALENDAR
