BEGIN:VCALENDAR
VERSION:2.0
PRODID:-//Plone.org//NONSGML plone.app.event//EN
X-WR-TIMEZONE:America/Sao_Paulo
BEGIN:VEVENT
SUMMARY:Prova final Fundamentos de Libras on-line em [ Auditorio Nobre do 
 CAD 1]
DTSTART;TZID=America/Sao_Paulo;VALUE=DATE-TIME:20200627T080000
DTEND;TZID=America/Sao_Paulo;VALUE=DATE-TIME:20200627T110000
DTSTAMP;VALUE=DATE-TIME:20260424T224341Z
UID:fa512c10a64649989fb9dc2aba7de2dd@150.164.76.86:8080
CREATED;VALUE=DATE-TIME:20200210T235407Z
DESCRIPTION:- Auditório\n- Serviço de som\n\n8:00 -  9:00 - recepção e
  organização dos alunos\n9:00 - 10:30 - orientações e aplicação das 
 provas\n10:30 - 11:00 - recolhimento e organização das provas - encerram
 ento\n\n\nFavor desconsiderar a solicitação anterior\, pois o horário s
 olicitado foi 8:00 - 10:00\, porém\, o horário correto é das 8:00 - 11:
 00\, conforme programação acima.
LAST-MODIFIED;VALUE=DATE-TIME:20200213T140558Z
URL:http://150.164.76.86:8080/cac/agenda/13911267511180885401
END:VEVENT
BEGIN:VTIMEZONE
TZID:America/Sao_Paulo
X-LIC-LOCATION:America/Sao_Paulo
BEGIN:STANDARD
DTSTART;VALUE=DATE-TIME:20200215T230000
TZNAME:BRT
TZOFFSETFROM:-0200
TZOFFSETTO:-0300
END:STANDARD
END:VTIMEZONE
END:VCALENDAR
