BEGIN:VCALENDAR
VERSION:2.0
PRODID:-//Plone.org//NONSGML plone.app.event//EN
X-WR-TIMEZONE:America/Sao_Paulo
BEGIN:VEVENT
SUMMARY:Seminário Fhemig/UFMG em [ Outros espacos]
DTSTART;TZID=America/Sao_Paulo;VALUE=DATE-TIME:20241218T140000
DTEND;TZID=America/Sao_Paulo;VALUE=DATE-TIME:20241218T160000
DTSTAMP;VALUE=DATE-TIME:20260419T164601Z
UID:b18149ed3a7444f7b9ac6fe33cc28be2@150.164.76.86:8080
CREATED;VALUE=DATE-TIME:20240828T163556Z
DESCRIPTION:<p>Seminário UFMG e Fhemig. Será online.</p>
LAST-MODIFIED;VALUE=DATE-TIME:20240828T163838Z
URL:http://150.164.76.86:8080/cac/agenda/13904448779996620984
END:VEVENT
BEGIN:VTIMEZONE
TZID:America/Sao_Paulo
X-LIC-LOCATION:America/Sao_Paulo
BEGIN:DAYLIGHT
DTSTART;VALUE=DATE-TIME:20241020T010000
TZNAME:BRST
TZOFFSETFROM:-0300
TZOFFSETTO:-0200
END:DAYLIGHT
END:VTIMEZONE
END:VCALENDAR
