BEGIN:VCALENDAR
VERSION:2.0
PRODID:-//Plone.org//NONSGML plone.app.event//EN
X-WR-TIMEZONE:America/Sao_Paulo
BEGIN:VEVENT
SUMMARY:Nomeação do Auditório da FALE em [ Outros espacos]
DTSTART;TZID=America/Sao_Paulo;VALUE=DATE-TIME:20220922T180000
DTEND;TZID=America/Sao_Paulo;VALUE=DATE-TIME:20220922T190000
DTSTAMP;VALUE=DATE-TIME:20260422T012702Z
UID:a8cc698f79ed438bbf64d0e9c44b231a@150.164.76.86:8080
CREATED;VALUE=DATE-TIME:20220919T194157Z
DESCRIPTION:<p><span style="text-align: start\; text-decoration-thickness:
  initial\; text-decoration-style: initial\; text-decoration-color: initial
 \; float: none\; ">Nomeação do Auditório da FALE</span></p>
LAST-MODIFIED;VALUE=DATE-TIME:20220919T194209Z
URL:http://150.164.76.86:8080/cac/agenda/13887424416016423146
END:VEVENT
BEGIN:VTIMEZONE
TZID:America/Sao_Paulo
X-LIC-LOCATION:America/Sao_Paulo
BEGIN:STANDARD
DTSTART;VALUE=DATE-TIME:20220219T230000
TZNAME:BRT
TZOFFSETFROM:-0200
TZOFFSETTO:-0300
END:STANDARD
END:VTIMEZONE
END:VCALENDAR
