BEGIN:VCALENDAR
VERSION:2.0
PRODID:-//Plone.org//NONSGML plone.app.event//EN
X-WR-TIMEZONE:America/Sao_Paulo
BEGIN:VEVENT
SUMMARY:Formatura dos Cursos Integrados do Coltec em [ Auditorio Nobre do 
 CAD 1]
DTSTART;TZID=America/Sao_Paulo;VALUE=DATE-TIME:20241206T120000
DTEND;TZID=America/Sao_Paulo;VALUE=DATE-TIME:20241206T220000
DTSTAMP;VALUE=DATE-TIME:20260419T163634Z
UID:3de583e95fe94a1aa73b2dbcae5150da@150.164.76.86:8080
CREATED;VALUE=DATE-TIME:20240701T182403Z
DESCRIPTION:Solicitamos o espaço para realizar a formatura dos alunos dos
  cursos integrados do Colégio Técnico. \nAinda estamos coletando com a e
 mpresa contratada\, as informações de equipamentos necessários e horár
 io previsto para o inicio do evento. \nProvavelmente será entre 19h e 20h
 . Solicitamos o agendamento de 12h às 22h para que a empresa contratada p
 ossa organizar o espaço.\nAssim que tivermos todas as informações envia
 remos um e-mail para a CAC informando.
LAST-MODIFIED;VALUE=DATE-TIME:20240701T183224Z
URL:http://150.164.76.86:8080/cac/agenda/13884481695348073052
END:VEVENT
BEGIN:VTIMEZONE
TZID:America/Sao_Paulo
X-LIC-LOCATION:America/Sao_Paulo
BEGIN:DAYLIGHT
DTSTART;VALUE=DATE-TIME:20241020T010000
TZNAME:BRST
TZOFFSETFROM:-0300
TZOFFSETTO:-0200
END:DAYLIGHT
END:VTIMEZONE
END:VCALENDAR
