BEGIN:VCALENDAR
VERSION:2.0
PRODID:-//Plone.org//NONSGML plone.app.event//EN
X-WR-TIMEZONE:America/Sao_Paulo
BEGIN:VEVENT
SUMMARY:Tenda VIVER UFMG em [ Outros espacos]
DTSTART;TZID=America/Sao_Paulo;VALUE=DATE-TIME:20220819T080000
DTEND;TZID=America/Sao_Paulo;VALUE=DATE-TIME:20220826T200000
DTSTAMP;VALUE=DATE-TIME:20260422T025047Z
UID:c11c585480ea4b78b628ad60cfab4f4b@150.164.76.86:8080
CREATED;VALUE=DATE-TIME:20220805T143111Z
DESCRIPTION:Instalação da Tenda VIVER UFMG 2 Semestre de 2022\nEspaço p
 ara acolhimento e esclarecimento de dúvidas aos Estudantes Calouros da UF
 MG.\nPraça de Serviços - Campus Pampulha -
LAST-MODIFIED;VALUE=DATE-TIME:20220805T182753Z
URL:http://150.164.76.86:8080/cac/agenda/13868848855029945360
END:VEVENT
BEGIN:VTIMEZONE
TZID:America/Sao_Paulo
X-LIC-LOCATION:America/Sao_Paulo
BEGIN:STANDARD
DTSTART;VALUE=DATE-TIME:20220219T230000
TZNAME:BRT
TZOFFSETFROM:-0200
TZOFFSETTO:-0300
END:STANDARD
END:VTIMEZONE
END:VCALENDAR
