BEGIN:VCALENDAR
VERSION:2.0
PRODID:-//Plone.org//NONSGML plone.app.event//EN
X-WR-TIMEZONE:America/Sao_Paulo
BEGIN:VEVENT
SUMMARY:IX edição do Congresso Internacional Sobre Culturas em [ Outros 
 espacos]
DTSTART;TZID=America/Sao_Paulo;VALUE=DATE-TIME:20231106T080000
DTEND;TZID=America/Sao_Paulo;VALUE=DATE-TIME:20231110T220000
DTSTAMP;VALUE=DATE-TIME:20260420T131844Z
UID:1f624289b65143c8aae0134f19c65b23@150.164.76.86:8080
CREATED;VALUE=DATE-TIME:20231010T144058Z
DESCRIPTION:<p>Cancelei o agendamento anterior por engano. Era pra ter can
 celado os agendamentos no NOBRE e na REITORIA\, pois não será necessári
 o utilizar esses espaços.</p>\n<p>Samuel Nogueira</p>
LAST-MODIFIED;VALUE=DATE-TIME:20231010T144121Z
URL:http://150.164.76.86:8080/cac/agenda/13856446674314177015
END:VEVENT
BEGIN:VTIMEZONE
TZID:America/Sao_Paulo
X-LIC-LOCATION:America/Sao_Paulo
BEGIN:DAYLIGHT
DTSTART;VALUE=DATE-TIME:20231015T010000
TZNAME:BRST
TZOFFSETFROM:-0300
TZOFFSETTO:-0200
END:DAYLIGHT
END:VTIMEZONE
END:VCALENDAR
