BEGIN:VCALENDAR
VERSION:2.0
PRODID:-//Plone.org//NONSGML plone.app.event//EN
X-WR-TIMEZONE:America/Sao_Paulo
BEGIN:VEVENT
SUMMARY:50 anos Fundação Cristiano Otoni em [ Outros espacos]
DTSTART;TZID=America/Sao_Paulo;VALUE=DATE-TIME:20240813T170000
DTEND;TZID=America/Sao_Paulo;VALUE=DATE-TIME:20240813T190000
DTSTAMP;VALUE=DATE-TIME:20260419T222834Z
UID:993f2969a1b94f4ab4da8ad3e101607e@150.164.76.86:8080
CREATED;VALUE=DATE-TIME:20240809T153016Z
DESCRIPTION:<p>Evento oficial reitoria</p>
LAST-MODIFIED;VALUE=DATE-TIME:20240809T153027Z
URL:http://150.164.76.86:8080/cac/agenda/13851300931269247294
END:VEVENT
BEGIN:VTIMEZONE
TZID:America/Sao_Paulo
X-LIC-LOCATION:America/Sao_Paulo
BEGIN:STANDARD
DTSTART;VALUE=DATE-TIME:20240217T230000
TZNAME:BRT
TZOFFSETFROM:-0200
TZOFFSETTO:-0300
END:STANDARD
END:VTIMEZONE
END:VCALENDAR
