BEGIN:VCALENDAR
VERSION:2.0
PRODID:-//Plone.org//NONSGML plone.app.event//EN
X-WR-TIMEZONE:America/Sao_Paulo
BEGIN:VEVENT
SUMMARY:FERIADO TIRADENTES em [ Auditorio da Reitoria Saguao da Reitoria G
 ramado da Reitoria Arena da praça de serviços Entorno da Praca de Servic
 os Auditorio Nobre do CAD 1 Auditorio 1A do CAD 1 Auditorio 2A do CAD 1 Au
 ditorio A102 do Cad 2 Auditorio A104 do Cad 2 Auditório B101/102 do CAD 3
  Auditório B106 do CAD3 Auditório B107 do CAD3 Auditório B301 do CAD 3 
 Auditório B302 do CAD 3 Auditório B306 do CAD3 Outros espacos]
DTSTART;TZID=America/Sao_Paulo;VALUE=DATE-TIME:20240421T060000
DTEND;TZID=America/Sao_Paulo;VALUE=DATE-TIME:20240421T220000
DTSTAMP;VALUE=DATE-TIME:20260420T044749Z
UID:753882eaaca74e828f68442b57c5b361@150.164.76.86:8080
CREATED;VALUE=DATE-TIME:20231106T134500Z
DESCRIPTION:<p>FERIADO TIRADENTES</p>
LAST-MODIFIED;VALUE=DATE-TIME:20231106T134536Z
URL:http://150.164.76.86:8080/cac/agenda/13846397343479516208
END:VEVENT
BEGIN:VTIMEZONE
TZID:America/Sao_Paulo
X-LIC-LOCATION:America/Sao_Paulo
BEGIN:STANDARD
DTSTART;VALUE=DATE-TIME:20240217T230000
TZNAME:BRT
TZOFFSETFROM:-0200
TZOFFSETTO:-0300
END:STANDARD
END:VTIMEZONE
END:VCALENDAR
