BEGIN:VCALENDAR
VERSION:2.0
PRODID:-//Plone.org//NONSGML plone.app.event//EN
X-WR-TIMEZONE:America/Sao_Paulo
BEGIN:VEVENT
SUMMARY:Reunião de Equipe da Reitora em [ Outros espacos]
DTSTART;TZID=America/Sao_Paulo;VALUE=DATE-TIME:20240712T093000
DTEND;TZID=America/Sao_Paulo;VALUE=DATE-TIME:20240712T123000
DTSTAMP;VALUE=DATE-TIME:20260419T234927Z
UID:7b960db66360480d9a80e57515fb34b8@150.164.76.86:8080
CREATED;VALUE=DATE-TIME:20240701T154620Z
DESCRIPTION:<p>Reunião de Equipe da Reitora</p>
LAST-MODIFIED;VALUE=DATE-TIME:20240701T154640Z
URL:http://150.164.76.86:8080/cac/agenda/13824286916256408440
END:VEVENT
BEGIN:VTIMEZONE
TZID:America/Sao_Paulo
X-LIC-LOCATION:America/Sao_Paulo
BEGIN:STANDARD
DTSTART;VALUE=DATE-TIME:20240217T230000
TZNAME:BRT
TZOFFSETFROM:-0200
TZOFFSETTO:-0300
END:STANDARD
END:VTIMEZONE
END:VCALENDAR
