BEGIN:VCALENDAR
VERSION:2.0
PRODID:-//Plone.org//NONSGML plone.app.event//EN
X-WR-TIMEZONE:America/Sao_Paulo
BEGIN:VEVENT
SUMMARY:Exame de Proficiência do Cenex/FALE em [ Auditorio A104 do Cad 2 
 Auditorio A102 do Cad 2 Outros espacos]
DTSTART;TZID=America/Sao_Paulo;VALUE=DATE-TIME:20230708T070000
DTEND;TZID=America/Sao_Paulo;VALUE=DATE-TIME:20230709T190000
DTSTAMP;VALUE=DATE-TIME:20260421T121930Z
UID:4718e3f60a0b4a349384bc602a10d8f6@150.164.76.86:8080
CREATED;VALUE=DATE-TIME:20230619T104246Z
DESCRIPTION:<div dir="ltr">Prezados\, boa noite.</div>\n<div dir="ltr"></d
 iv>\n<div dir="ltr">\n<div dir="ltr">\n<div>Solicito a reserva das salas d
 o CAD 2  para a aplicação das provas dos Exame de Proficiência do Cene
 x/FALE\, para os Programa de Pos-Graduação\, nos dias 8 e 9 de julho de 
 2023.</div>\n<div></div>\n<div dir="ltr"><span>Dia: 08/07/2023 - Horário:
  14 às 17h</span></div>\n<div dir="ltr">                
                                      
                                      
                                      
                                      
                                      
  Provas: Alemão\, Francês\, Italiano e Português:</div>\n<div></div>\n<
 div dir="ltr"><span>Dia: 09/07/23 - Horário: 9 às 12h</span></div>\n<div
 ></div>\n<div dir="ltr">Prova: Espanhol</div>\n<div dir="ltr"></div>\n<div
  dir="ltr"><span>Dia: 09/07/23 - Horário: 14 às 17h</span></div>\n<div d
 ir="ltr"></div>\n<div dir="ltr"></div>\n<div>Prova: Inglês</div>\n<div></
 div>\n<div></div>\n</div>\n<div></div>\n</div>\n<div dir="ltr">Desde já a
 gradeço e aguardo retorno.</div>\n<div class="ydp11d1b285yiv9683601103ydp
 24f81f17signature">\n<div>\n<div class="ydp11d1b285yiv9683601103ydpb728f6c
 9yiv5114403111" id="ydp11d1b285yiv9683601103ydpb728f6c9yiv5114403111yui_3_
 16_0_1_1421693159624_145533">Atenciosamente\,</div>\n<div class="ydp11d1b2
 85yiv9683601103ydpb728f6c9yiv5114403111" id="ydp11d1b285yiv9683601103ydpb7
 28f6c9yiv5114403111yui_3_16_0_1_1421693159624_145525">Tânia Mateus<br cla
 ss="ydp11d1b285yiv9683601103ydpb728f6c9yiv5114403111" clear="none" />Secre
 tária do CENEX-FALE<br class="ydp11d1b285yiv9683601103ydpb728f6c9yiv51144
 03111" clear="none" /><span>Telefone: 31 987233457</span></div>\n</div>\n<
 /div>
LAST-MODIFIED;VALUE=DATE-TIME:20230619T104518Z
URL:http://150.164.76.86:8080/cac/agenda/13818848020686699548
END:VEVENT
BEGIN:VTIMEZONE
TZID:America/Sao_Paulo
X-LIC-LOCATION:America/Sao_Paulo
BEGIN:STANDARD
DTSTART;VALUE=DATE-TIME:20230225T230000
TZNAME:BRT
TZOFFSETFROM:-0200
TZOFFSETTO:-0300
END:STANDARD
END:VTIMEZONE
END:VCALENDAR
