BEGIN:VCALENDAR
VERSION:2.0
PRODID:-//Plone.org//NONSGML plone.app.event//EN
X-WR-TIMEZONE:America/Sao_Paulo
BEGIN:VEVENT
SUMMARY:Segunda Sem Carne em [ Entorno da Praca de Servicos]
DTSTART;TZID=America/Sao_Paulo;VALUE=DATE-TIME:20241014T120000
DTEND;TZID=America/Sao_Paulo;VALUE=DATE-TIME:20241014T140000
DTSTAMP;VALUE=DATE-TIME:20260419T193150Z
UID:6b995e45cb1d42c799db5bc52f14b4b0@150.164.76.86:8080
CREATED;VALUE=DATE-TIME:20240807T171702Z
DESCRIPTION:O evento contará com uma mesa retangular de aproximadamente 2
 x1m\, onde será colocado os alimentos veganos\, e um estande para apoio d
 os cartazes do Projeto. O evento acontecerá entre 12 - 14 horas.
LAST-MODIFIED;VALUE=DATE-TIME:20240807T182230Z
URL:http://150.164.76.86:8080/cac/agenda/13800912841592880132
END:VEVENT
BEGIN:VTIMEZONE
TZID:America/Sao_Paulo
X-LIC-LOCATION:America/Sao_Paulo
BEGIN:STANDARD
DTSTART;VALUE=DATE-TIME:20240217T230000
TZNAME:BRT
TZOFFSETFROM:-0200
TZOFFSETTO:-0300
END:STANDARD
END:VTIMEZONE
END:VCALENDAR
