BEGIN:VCALENDAR
VERSION:2.0
PRODID:-//Plone.org//NONSGML plone.app.event//EN
X-WR-TIMEZONE:America/Sao_Paulo
BEGIN:VEVENT
SUMMARY:Pré-reserva XII SEMINÁRIO NACIONAL DA REDESTRADO BRASIL em [ Aud
 itorio Nobre do CAD 1]
DTSTART;TZID=America/Sao_Paulo;VALUE=DATE-TIME:20241101T070000
DTEND;TZID=America/Sao_Paulo;VALUE=DATE-TIME:20241111T080000
DTSTAMP;VALUE=DATE-TIME:20260419T163544Z
UID:f6c5564bc2844c118b54c70269d8e1d4@150.164.76.86:8080
CREATED;VALUE=DATE-TIME:20231114T182231Z
DESCRIPTION:<p>pré-reserva</p>\n<p>evento cancelado conforme solicitaçã
 o da Professora Ana Maria em 26/09/2024 </p>
LAST-MODIFIED;VALUE=DATE-TIME:20240926T195454Z
URL:http://150.164.76.86:8080/cac/agenda/13775067971542884101
END:VEVENT
BEGIN:VTIMEZONE
TZID:America/Sao_Paulo
X-LIC-LOCATION:America/Sao_Paulo
BEGIN:DAYLIGHT
DTSTART;VALUE=DATE-TIME:20241020T010000
TZNAME:BRST
TZOFFSETFROM:-0300
TZOFFSETTO:-0200
END:DAYLIGHT
END:VTIMEZONE
END:VCALENDAR
