BEGIN:VCALENDAR
VERSION:2.0
PRODID:-//Plone.org//NONSGML plone.app.event//EN
X-WR-TIMEZONE:America/Sao_Paulo
BEGIN:VEVENT
SUMMARY:Tópicos em Sociologia em [ Auditório B101/102 do CAD 3]
DTSTART;TZID=America/Sao_Paulo;VALUE=DATE-TIME:20230901T130000
DTEND;TZID=America/Sao_Paulo;VALUE=DATE-TIME:20230901T180000
DTSTAMP;VALUE=DATE-TIME:20260421T062515Z
UID:9dac04214c564f479616210fe30a57dd@150.164.76.86:8080
CREATED;VALUE=DATE-TIME:20230629T131937Z
DESCRIPTION:<p>Tópicos em Sociologia. OBS: Modo aula</p>
LAST-MODIFIED;VALUE=DATE-TIME:20230710T132933Z
URL:http://150.164.76.86:8080/cac/agenda/1376062980808239856
END:VEVENT
BEGIN:VTIMEZONE
TZID:America/Sao_Paulo
X-LIC-LOCATION:America/Sao_Paulo
BEGIN:STANDARD
DTSTART;VALUE=DATE-TIME:20230225T230000
TZNAME:BRT
TZOFFSETFROM:-0200
TZOFFSETTO:-0300
END:STANDARD
END:VTIMEZONE
END:VCALENDAR
