BEGIN:VCALENDAR
VERSION:2.0
PRODID:-//Plone.org//NONSGML plone.app.event//EN
X-WR-TIMEZONE:America/Sao_Paulo
BEGIN:VEVENT
SUMMARY:Troca de Gestão EMAS Jr. em [ Auditório B107 do CAD3]
DTSTART;TZID=America/Sao_Paulo;VALUE=DATE-TIME:20241220T170000
DTEND;TZID=America/Sao_Paulo;VALUE=DATE-TIME:20241220T210000
DTSTAMP;VALUE=DATE-TIME:20260419T164509Z
UID:b5e03d7a5db945d9970157296ec46a58@150.164.76.86:8080
CREATED;VALUE=DATE-TIME:20241128T154630Z
DESCRIPTION:<p>Será o evento de troca de gestão da empresa Júnior\, vam
 os precisar de projetor\, não ha necessidade de técnico audiovisual.</p>
LAST-MODIFIED;VALUE=DATE-TIME:20241217T180614Z
URL:http://150.164.76.86:8080/cac/agenda/13758432939319094948
END:VEVENT
BEGIN:VTIMEZONE
TZID:America/Sao_Paulo
X-LIC-LOCATION:America/Sao_Paulo
BEGIN:DAYLIGHT
DTSTART;VALUE=DATE-TIME:20241020T010000
TZNAME:BRST
TZOFFSETFROM:-0300
TZOFFSETTO:-0200
END:DAYLIGHT
END:VTIMEZONE
END:VCALENDAR
