BEGIN:VCALENDAR
VERSION:2.0
PRODID:-//Plone.org//NONSGML plone.app.event//EN
X-WR-TIMEZONE:America/Sao_Paulo
BEGIN:VEVENT
SUMMARY:Pré-reserva 11º ENFSUDESTE em [ Auditorio Nobre do CAD 1]
DTSTART;TZID=America/Sao_Paulo;VALUE=DATE-TIME:20240808T080000
DTEND;TZID=America/Sao_Paulo;VALUE=DATE-TIME:20240810T180000
DTSTAMP;VALUE=DATE-TIME:20260419T222601Z
UID:537f8b9c1e9f4506bf19603a54891523@150.164.76.86:8080
CREATED;VALUE=DATE-TIME:20240205T201518Z
DESCRIPTION:<p>Pré-reserva CAC</p>
LAST-MODIFIED;VALUE=DATE-TIME:20240508T191849Z
URL:http://150.164.76.86:8080/cac/agenda/13754747764552561493
END:VEVENT
BEGIN:VTIMEZONE
TZID:America/Sao_Paulo
X-LIC-LOCATION:America/Sao_Paulo
BEGIN:STANDARD
DTSTART;VALUE=DATE-TIME:20240217T230000
TZNAME:BRT
TZOFFSETFROM:-0200
TZOFFSETTO:-0300
END:STANDARD
END:VTIMEZONE
END:VCALENDAR
