BEGIN:VCALENDAR
VERSION:2.0
PRODID:-//Plone.org//NONSGML plone.app.event//EN
X-WR-TIMEZONE:America/Sao_Paulo
BEGIN:VEVENT
SUMMARY:III Workshop da Rede Mineira de Ciências Forenses em [ Auditorio 
 Nobre do CAD 1]
DTSTART;TZID=America/Sao_Paulo;VALUE=DATE-TIME:20221122T080000
DTEND;TZID=America/Sao_Paulo;VALUE=DATE-TIME:20221125T180000
DTSTAMP;VALUE=DATE-TIME:20260421T232605Z
UID:371104b56c22487da4c2afd205a037d0@150.164.76.86:8080
CREATED;VALUE=DATE-TIME:20220401T140252Z
DESCRIPTION:<p>- servicos de multimídia: projetores\, microfones\, alto f
 alantes\, etc. - servicos adicionais de limpeza de banheiros devido ao nú
 mero de participantes - utilizacão do espaco em frente ao auditório para
  a montagem de painéis para apresentacão de posters e stands\, a cargo d
 o comitê organizador do evento\, se possível fazer isto no sábado\; nã
 o há necessidade de acompanhamento por parte da equipe da CAC\, pois o es
 paco é acessível - se as regras da UFMG permitirem em Novembro\, o acess
 o ao espaco da copa (?) em frente ao auditório. O evento ocorrerá de 7 a
  9 de novembro de 2022\, das 8:00/9:00 às 18:00\, com plenarias no audit
 ório do CAD1 e mini-cursos paralelos em espacos no ICEx. A apresentacão 
 de posters e stands será realizada em frente ao auditorio do CAD~1. A hom
 page do evento com mais detalhes da programacão deverá estar no ar até 
 o final de abril de 2022.</p>
LAST-MODIFIED;VALUE=DATE-TIME:20220809T113421Z
URL:http://150.164.76.86:8080/cac/agenda/13733184652368126885
END:VEVENT
BEGIN:VTIMEZONE
TZID:America/Sao_Paulo
X-LIC-LOCATION:America/Sao_Paulo
BEGIN:DAYLIGHT
DTSTART;VALUE=DATE-TIME:20221016T010000
TZNAME:BRST
TZOFFSETFROM:-0300
TZOFFSETTO:-0200
END:DAYLIGHT
END:VTIMEZONE
END:VCALENDAR
