BEGIN:VCALENDAR
VERSION:2.0
PRODID:-//Plone.org//NONSGML plone.app.event//EN
X-WR-TIMEZONE:America/Sao_Paulo
BEGIN:VEVENT
SUMMARY: em [ Auditório B106 do CAD3]
DTSTART;TZID=America/Sao_Paulo;VALUE=DATE-TIME:20220912T083000
DTEND;TZID=America/Sao_Paulo;VALUE=DATE-TIME:20220912T093000
DTSTAMP;VALUE=DATE-TIME:20260422T012538Z
UID:e7bc0c65c2e747ce91d888932cc692ad@150.164.76.86:8080
CREATED;VALUE=DATE-TIME:20220902T165910Z
DESCRIPTION:<p>Evento modo aula a ser atendido pela equipe local.</p>\n<p>
 Autorizado pela Coordenadora da CAC Cássia Monteiro</p>
LAST-MODIFIED;VALUE=DATE-TIME:20220902T165937Z
URL:http://150.164.76.86:8080/cac/agenda/13727095883355800712
END:VEVENT
BEGIN:VTIMEZONE
TZID:America/Sao_Paulo
X-LIC-LOCATION:America/Sao_Paulo
BEGIN:STANDARD
DTSTART;VALUE=DATE-TIME:20220219T230000
TZNAME:BRT
TZOFFSETFROM:-0200
TZOFFSETTO:-0300
END:STANDARD
END:VTIMEZONE
END:VCALENDAR
