BEGIN:VCALENDAR
VERSION:2.0
PRODID:-//Plone.org//NONSGML plone.app.event//EN
X-WR-TIMEZONE:America/Sao_Paulo
BEGIN:VEVENT
SUMMARY:25a UFMG Jovem em [ Auditório B101/102 do CAD 3 Auditório B106 d
 o CAD3 Auditório B107 do CAD3]
DTSTART;TZID=America/Sao_Paulo;VALUE=DATE-TIME:20241002T070000
DTEND;TZID=America/Sao_Paulo;VALUE=DATE-TIME:20241008T220000
DTSTAMP;VALUE=DATE-TIME:20260419T175928Z
UID:127522fd1b794ef9ad8668841d5baff3@150.164.76.86:8080
CREATED;VALUE=DATE-TIME:20240607T165146Z
DESCRIPTION:<p>A UFMG Jovem se configura como um espaço de encontro\, di
 álogo e intercâmbio entre a Universidade e a Educação Básica\, e busc
 a articular conhecimentos científicos\, artísticos e culturais\, em uma 
 cena em que todos os sujeitos e seus saberes têm espaço e são valorizad
 os. Em 2024\, completando 25 anos e homenageando o grande escritor mineiro
  Fernando Sabino\, a UFMG Jovem tem como tema: Minas é um mundo: diversid
 ade\, saberes e tecnologias sociais. Neste ano\, a UFMG Jovem abrigará: 
 • Feira da Educação Básica\, que tem como foco a apresentação de tr
 abalhos investigativos e/ou inventivos\, de qualquer área do conhecimento
 \, incluindo trabalhos multi e transdicipilnares\, que estejam em consonâ
 ncia com o tema da 25ª UFMG Jovem e tenham os/as estudantes da educação
  básica como protagonistas. Inscrição pela plataforma Even3. • Desafi
 o “O meu segredo para ser feliz”\, que tem como objetivo instigar a im
 aginação e a criatividade dos/as estudantes que podem\, individualmente 
 ou em grupo\, se expressar sobre o tema por meio de desenho\, texto escrit
 o\, áudio ou vídeo. Inscrição pelo site https://www.ufmg.br/ufmgjovem/
 . • Conversa com Cientistas\, que busca promover um encontro presencial 
 entre cientistas\, estudantes e professores/as da Educação Básica\, par
 a conversarem sobre um tema específico\, fomentando o diálogo e a partil
 ha de pontos de vista sobre conhecimentos e saberes. Inscrição pelo site
  https://www.ufmg.br/ufmgjovem/. • #ExploraUFMG\, que busca potencializa
 r a interlocução entre os museus e espaços culturais da UFMG e os sujei
 tos da Educação Básica\, fomentando ainda mais o acesso a esses bens cu
 lturais à comunidade. Indicação de como fazer as inscrições serão di
 sponibilizadas no site https://www.ufmg.br/ufmgjovem/.</p>
LAST-MODIFIED;VALUE=DATE-TIME:20240925T143814Z
URL:http://150.164.76.86:8080/cac/agenda/13717905898226537065
END:VEVENT
BEGIN:VTIMEZONE
TZID:America/Sao_Paulo
X-LIC-LOCATION:America/Sao_Paulo
BEGIN:STANDARD
DTSTART;VALUE=DATE-TIME:20240217T230000
TZNAME:BRT
TZOFFSETFROM:-0200
TZOFFSETTO:-0300
END:STANDARD
END:VTIMEZONE
END:VCALENDAR
