BEGIN:VCALENDAR
VERSION:2.0
PRODID:-//Plone.org//NONSGML plone.app.event//EN
X-WR-TIMEZONE:America/Sao_Paulo
BEGIN:VEVENT
SUMMARY:Simpósio do Laboratório de Imunofarmacologia - IMUNOFAR em [ Out
 ros espacos]
DTSTART;TZID=America/Sao_Paulo;VALUE=DATE-TIME:20220818T140000
DTEND;TZID=America/Sao_Paulo;VALUE=DATE-TIME:20220819T180000
DTSTAMP;VALUE=DATE-TIME:20260422T024954Z
UID:8a7358acfedc4f348379818ae6f0886a@150.164.76.86:8080
CREATED;VALUE=DATE-TIME:20220630T140640Z
DESCRIPTION:SLIM - Simpósio do Laboratório de Imunofarmacologia - IMUNOF
 AR\nEncontro entre professores e seus respectivos estudantes de graduaçã
 o (iniciação científica) e pós-graduação (mestrado\, doutorado e pó
 s-doc) para discussão de projetos e estabelecimentos de novas colaboraç
 ões. \nSerá necessário: data show\, microfone e demais equipamentos aud
 io-visula. Um técnico para operar os equipamentos nos dias e horário do 
 evento.
LAST-MODIFIED;VALUE=DATE-TIME:20220706T145453Z
URL:http://150.164.76.86:8080/cac/agenda/13716206583074737086
END:VEVENT
BEGIN:VTIMEZONE
TZID:America/Sao_Paulo
X-LIC-LOCATION:America/Sao_Paulo
BEGIN:STANDARD
DTSTART;VALUE=DATE-TIME:20220219T230000
TZNAME:BRT
TZOFFSETFROM:-0200
TZOFFSETTO:-0300
END:STANDARD
END:VTIMEZONE
END:VCALENDAR
