BEGIN:VCALENDAR
VERSION:2.0
PRODID:-//Plone.org//NONSGML plone.app.event//EN
X-WR-TIMEZONE:America/Sao_Paulo
BEGIN:VEVENT
SUMMARY:Aula Graduação PLRM (ODR045) Odonto em [ Auditorio A102 do Cad 2
 ]
DTSTART;TZID=America/Sao_Paulo;VALUE=DATE-TIME:20240223T140000
DTEND;TZID=America/Sao_Paulo;VALUE=DATE-TIME:20240223T180000
DTSTAMP;VALUE=DATE-TIME:20260420T080831Z
UID:d4b111cedee841e5a504b8b2fb2d20ab@150.164.76.86:8080
CREATED;VALUE=DATE-TIME:20240217T115417Z
DESCRIPTION:Aula de disciplina de graduação obrigatória (ODR045).\nSala
 s da FAOUFMG não possuem capacidade para a turma dobrada. Auditório da F
 AO já reservado para a data.
LAST-MODIFIED;VALUE=DATE-TIME:20240222T125108Z
URL:http://150.164.76.86:8080/cac/agenda/13686000646078145348
END:VEVENT
BEGIN:VTIMEZONE
TZID:America/Sao_Paulo
X-LIC-LOCATION:America/Sao_Paulo
BEGIN:STANDARD
DTSTART;VALUE=DATE-TIME:20240217T230000
TZNAME:BRT
TZOFFSETFROM:-0200
TZOFFSETTO:-0300
END:STANDARD
END:VTIMEZONE
END:VCALENDAR
