BEGIN:VCALENDAR
VERSION:2.0
PRODID:-//Plone.org//NONSGML plone.app.event//EN
X-WR-TIMEZONE:America/Sao_Paulo
BEGIN:VEVENT
SUMMARY:3º Seminário de Alfabetização CAS e UFMG em [ Auditorio A104 d
 o Cad 2]
DTSTART;TZID=America/Sao_Paulo;VALUE=DATE-TIME:20230617T080000
DTEND;TZID=America/Sao_Paulo;VALUE=DATE-TIME:20230617T120000
DTSTAMP;VALUE=DATE-TIME:20260421T145732Z
UID:c7edb0317e7041f19ee15e0e459bd239@150.164.76.86:8080
CREATED;VALUE=DATE-TIME:20230518T114408Z
DESCRIPTION:<p>Segue cronograma do evento: 16-06 sexta-feira das 16h00 at
 é 22h00 19h - Abertura : Michelle/ UFMG e CAS/BH - Ernesto/Roberta/Daniel
  19h15 - CEEI 19h30 - DIBEPS - Marisa Lima ( ainda estamos aguardando conf
 irmação) 20h15 - aberto para perguntas 20h30 - Elidea Bernardino 21h15 -
  aberto para perguntas 21h30 - encerramento xxxxxxxxxxxxxxxxxxxxxxxxx 17 -
  06 sábado de manhã - 08 às 13h. 9h - Boas-vindas 9h15 - Sonia Oliveira
  10h - Aberto para perguntas 10h15 - Thais Abreu 11h15 - aberto para pergu
 ntas 11h30 - Encerramento</p>
LAST-MODIFIED;VALUE=DATE-TIME:20230523T105200Z
URL:http://150.164.76.86:8080/cac/agenda/13666185592077203569
END:VEVENT
BEGIN:VTIMEZONE
TZID:America/Sao_Paulo
X-LIC-LOCATION:America/Sao_Paulo
BEGIN:STANDARD
DTSTART;VALUE=DATE-TIME:20230225T230000
TZNAME:BRT
TZOFFSETFROM:-0200
TZOFFSETTO:-0300
END:STANDARD
END:VTIMEZONE
END:VCALENDAR
