BEGIN:VCALENDAR
VERSION:2.0
PRODID:-//Plone.org//NONSGML plone.app.event//EN
X-WR-TIMEZONE:America/Sao_Paulo
BEGIN:VEVENT
SUMMARY:IV Simpósio Nacional em Ciências Farmacêuticas em [ Auditório 
 B101/102 do CAD 3]
DTSTART;TZID=America/Sao_Paulo;VALUE=DATE-TIME:20201111T080000
DTEND;TZID=America/Sao_Paulo;VALUE=DATE-TIME:20201111T200000
DTSTAMP;VALUE=DATE-TIME:20260424T160911Z
UID:90569b6852954d338bbbcfe94f9d9b8c@150.164.76.86:8080
CREATED;VALUE=DATE-TIME:20200219T175745Z
DESCRIPTION:<p>Tela\, datashow\, notebook. Pessoal para suporte para utili
 zação dos recursos multimídia disponíveis no auditório. Programação
  do evento 11/11/20202 10h Palestra de abertura 14h-18h30 Minicursos (em p
 aralelo) 12/11/2020 9h-10h30 Oficinas e apresentações orais (em paralelo
 ) 11h-12h30 Apresentação de pôster 14h30-16h30 Mesa redonda 17h-18h30 P
 alestra 13/11/2020 9h-10h30 Oficinas e apresentações orais (em paralelo)
  11h-12h30 Apresentação de pôster 14h30-16h30 Mesa redonda 17h-18h Pale
 stra 18h30-20h Encerramento e premiações</p>
LAST-MODIFIED;VALUE=DATE-TIME:20230111T201044Z
URL:http://150.164.76.86:8080/cac/agenda/13658911730837765
END:VEVENT
BEGIN:VTIMEZONE
TZID:America/Sao_Paulo
X-LIC-LOCATION:America/Sao_Paulo
BEGIN:DAYLIGHT
DTSTART;VALUE=DATE-TIME:20201018T010000
TZNAME:BRST
TZOFFSETFROM:-0300
TZOFFSETTO:-0200
END:DAYLIGHT
END:VTIMEZONE
END:VCALENDAR
