BEGIN:VCALENDAR
VERSION:2.0
PRODID:-//Plone.org//NONSGML plone.app.event//EN
X-WR-TIMEZONE:America/Sao_Paulo
BEGIN:VEVENT
SUMMARY:Pré-reserva Reitora em [ Auditorio Nobre do CAD 1]
DTSTART;TZID=America/Sao_Paulo;VALUE=DATE-TIME:20231031T070000
DTEND;TZID=America/Sao_Paulo;VALUE=DATE-TIME:20231101T210000
DTSTAMP;VALUE=DATE-TIME:20260420T114558Z
UID:bde56d3c83c847379ca72fe43f30ce25@150.164.76.86:8080
CREATED;VALUE=DATE-TIME:20231003T211407Z
DESCRIPTION:<p>Pré-reserva</p>
LAST-MODIFIED;VALUE=DATE-TIME:20231003T211636Z
URL:http://150.164.76.86:8080/cac/agenda/13648768734513864071
END:VEVENT
BEGIN:VTIMEZONE
TZID:America/Sao_Paulo
X-LIC-LOCATION:America/Sao_Paulo
BEGIN:DAYLIGHT
DTSTART;VALUE=DATE-TIME:20231015T010000
TZNAME:BRST
TZOFFSETFROM:-0300
TZOFFSETTO:-0200
END:DAYLIGHT
END:VTIMEZONE
END:VCALENDAR
