BEGIN:VCALENDAR
VERSION:2.0
PRODID:-//Plone.org//NONSGML plone.app.event//EN
X-WR-TIMEZONE:America/Sao_Paulo
BEGIN:VEVENT
SUMMARY:III Seminário Práticas Docentes Vivenciadas nas Licenciaturas da
  UFMG em [ Auditorio Nobre do CAD 1]
DTSTART;TZID=America/Sao_Paulo;VALUE=DATE-TIME:20230601T140000
DTEND;TZID=America/Sao_Paulo;VALUE=DATE-TIME:20230601T170000
DTSTAMP;VALUE=DATE-TIME:20260421T102828Z
UID:6c7972e2cf4447259ce591c77ab12782@150.164.76.86:8080
CREATED;VALUE=DATE-TIME:20230404T235306Z
DESCRIPTION:<p>Abertura do III Seminário Práticas Docentes Vivenciadas n
 as Licenciaturas da UFMG</p>
LAST-MODIFIED;VALUE=DATE-TIME:20230413T133024Z
URL:http://150.164.76.86:8080/cac/agenda/13646897399383510400
END:VEVENT
BEGIN:VTIMEZONE
TZID:America/Sao_Paulo
X-LIC-LOCATION:America/Sao_Paulo
BEGIN:STANDARD
DTSTART;VALUE=DATE-TIME:20230225T230000
TZNAME:BRT
TZOFFSETFROM:-0200
TZOFFSETTO:-0300
END:STANDARD
END:VTIMEZONE
END:VCALENDAR
