BEGIN:VCALENDAR
VERSION:2.0
PRODID:-//Plone.org//NONSGML plone.app.event//EN
X-WR-TIMEZONE:America/Sao_Paulo
BEGIN:VEVENT
SUMMARY:ASSEMBLEIA  - Sindicato dos Professores de Universidades Federais 
 de Belo Horizonte\, Montes Claros e Ouro Branco - APUBH em [ Auditório B1
 06 do CAD3]
DTSTART;TZID=America/Sao_Paulo;VALUE=DATE-TIME:20230403T090000
DTEND;TZID=America/Sao_Paulo;VALUE=DATE-TIME:20230403T140000
DTSTAMP;VALUE=DATE-TIME:20260421T133250Z
UID:4fd4baa7d045483d92b2f251a3b69f6e@150.164.76.86:8080
CREATED;VALUE=DATE-TIME:20230328T134420Z
DESCRIPTION:<p>ASSEMBLEIA EXTRAORDINÁRIA DO APUBH HORÁRIO: 09H ÀS 14H P
 ÚBLICO: 100 PESSOAS</p>
LAST-MODIFIED;VALUE=DATE-TIME:20230328T204021Z
URL:http://150.164.76.86:8080/cac/agenda/1364116118107674182
END:VEVENT
BEGIN:VTIMEZONE
TZID:America/Sao_Paulo
X-LIC-LOCATION:America/Sao_Paulo
BEGIN:STANDARD
DTSTART;VALUE=DATE-TIME:20230225T230000
TZNAME:BRT
TZOFFSETFROM:-0200
TZOFFSETTO:-0300
END:STANDARD
END:VTIMEZONE
END:VCALENDAR
