BEGIN:VCALENDAR
VERSION:2.0
PRODID:-//Plone.org//NONSGML plone.app.event//EN
X-WR-TIMEZONE:America/Sao_Paulo
BEGIN:VEVENT
SUMMARY:Reunião Conselho Universitário  em [ Outros espacos]
DTSTART;TZID=America/Sao_Paulo;VALUE=DATE-TIME:20220407T140000
DTEND;TZID=America/Sao_Paulo;VALUE=DATE-TIME:20220407T170000
DTSTAMP;VALUE=DATE-TIME:20260422T081604Z
UID:74a3c307f1384e44805a973996eae57c@150.164.76.86:8080
CREATED;VALUE=DATE-TIME:20220329T120223Z
DESCRIPTION:<p>Reunião </p>
LAST-MODIFIED;VALUE=DATE-TIME:20220405T143553Z
URL:http://150.164.76.86:8080/cac/agenda/1363790854058195640
END:VEVENT
BEGIN:VTIMEZONE
TZID:America/Sao_Paulo
X-LIC-LOCATION:America/Sao_Paulo
BEGIN:STANDARD
DTSTART;VALUE=DATE-TIME:20220219T230000
TZNAME:BRT
TZOFFSETFROM:-0200
TZOFFSETTO:-0300
END:STANDARD
END:VTIMEZONE
END:VCALENDAR
