BEGIN:VCALENDAR
VERSION:2.0
PRODID:-//Plone.org//NONSGML plone.app.event//EN
X-WR-TIMEZONE:America/Sao_Paulo
BEGIN:VEVENT
SUMMARY:Início das Obras do Centro Nacional de Vacina (BH TEC) em [ Outro
 s espacos]
DTSTART;TZID=America/Sao_Paulo;VALUE=DATE-TIME:20221219T140000
DTEND;TZID=America/Sao_Paulo;VALUE=DATE-TIME:20221219T160000
DTSTAMP;VALUE=DATE-TIME:20260421T205342Z
UID:849f52ae07524dad833dc3568ebcc8f4@150.164.76.86:8080
CREATED;VALUE=DATE-TIME:20221215T144151Z
DESCRIPTION:<p>Apurando informações</p>
LAST-MODIFIED;VALUE=DATE-TIME:20221215T144207Z
URL:http://150.164.76.86:8080/cac/agenda/13630513733989088090
END:VEVENT
BEGIN:VTIMEZONE
TZID:America/Sao_Paulo
X-LIC-LOCATION:America/Sao_Paulo
BEGIN:DAYLIGHT
DTSTART;VALUE=DATE-TIME:20221016T010000
TZNAME:BRST
TZOFFSETFROM:-0300
TZOFFSETTO:-0200
END:DAYLIGHT
END:VTIMEZONE
END:VCALENDAR
