BEGIN:VCALENDAR
VERSION:2.0
PRODID:-//Plone.org//NONSGML plone.app.event//EN
X-WR-TIMEZONE:America/Sao_Paulo
BEGIN:VEVENT
SUMMARY:Desligamento de Energia - CEMIG em [ Auditorio Nobre do CAD 1 Audi
 torio 1A do CAD 1 Auditorio 2A do CAD 1 Em torno da Praca de Servicos]
DTSTART;TZID=America/Sao_Paulo;VALUE=DATE-TIME:20220320T090000
DTEND;TZID=America/Sao_Paulo;VALUE=DATE-TIME:20220320T170000
DTSTAMP;VALUE=DATE-TIME:20260422T094245Z
UID:633af7a7c2f74dc1b8a872d4e4c86917@150.164.76.86:8080
CREATED;VALUE=DATE-TIME:20220316T110707Z
DESCRIPTION:<div class="gmail_default">desligamento programado de energia 
 que ocorrerá no dia <b>20/03/2022\, domingo\, durante o período previst
 o de 9:30 às 16:00.</b></div>\n<div class="gmail_default"></div>\n<div cl
 ass="gmail_default">Esse desligamento é necessário para a Cemig fazer ad
 equações na rede para atender à usina fotovoltaica do CAD 1.</div>\n<di
 v class="gmail_default"></div>\n<div class="gmail_default">As unidades que
  serão afetadas são:</div>\n<div class="gmail_default">\n<ul>\n<li>ICB</
 li>\n<li>CAD 1</li>\n<li>Biblioteca Universitária</li>\n<li>Praça de Ser
 viços</li>\n</ul>\n</div>
LAST-MODIFIED;VALUE=DATE-TIME:20220316T115221Z
URL:http://150.164.76.86:8080/cac/agenda/13583395014956305176
END:VEVENT
BEGIN:VTIMEZONE
TZID:America/Sao_Paulo
X-LIC-LOCATION:America/Sao_Paulo
BEGIN:STANDARD
DTSTART;VALUE=DATE-TIME:20220219T230000
TZNAME:BRT
TZOFFSETFROM:-0200
TZOFFSETTO:-0300
END:STANDARD
END:VTIMEZONE
END:VCALENDAR
