BEGIN:VCALENDAR
VERSION:2.0
PRODID:-//Plone.org//NONSGML plone.app.event//EN
X-WR-TIMEZONE:America/Sao_Paulo
BEGIN:VEVENT
SUMMARY:Evento GIF UFMG em [ Auditório B106 do CAD3]
DTSTART;TZID=America/Sao_Paulo;VALUE=DATE-TIME:20230810T130000
DTEND;TZID=America/Sao_Paulo;VALUE=DATE-TIME:20230810T170000
DTSTAMP;VALUE=DATE-TIME:20260421T091413Z
UID:a25c02fd8ef347a79b9aaf6c5f7ffb95@150.164.76.86:8080
CREATED;VALUE=DATE-TIME:20230613T124633Z
DESCRIPTION:Draft da programação do evento do GFI em parceria com a UFMG
  (CTIT)\n\nObjetivo do evento: mobilização e sensibilização de alunos 
 e pesquisadores da UFMG\, que está inserida em um ecossistema promissor n
 o desenvolvimento de pesquisas e tecnologias na área de biotecnologia\, c
 ultivo celular e fermentação.\nData prevista do evento: 10/08/23 no per
 íodo da tarde\nLocal: UFMG\nDuração do evento: 2h30 \nProposta de escop
 o do evento:\n\n\nHorário\nPalestrante (Instituição) Tema\nDuração\n1
 3:30 \nA definir ( CTIT)\nFala de abertura \n5 min\n13:35\nGuilherme (GFI)
 \nSobre o GFI\, Aspectos de mercado de proteínas alternativas (foco em ca
 rne cultivada e fermentação)\, cadeia de desenvolvimento no setor\n20 mi
 n\n13:55\nAmanda (GFI)\nCarne cultivada: aspectos gerais\, cenário global
  da tecnologia\, oportunidades de pesquisa\, mercado de trabalho\, compet
 ências profissionais (oportunidades e necessidades)\n30 min\n\n\nModerado
 r (profa. Erika)\nMomento para perguntas\n5 min\n14:30 h\nIsabela (GFI)\nF
 ermentação: aspectos gerais da tecnologia \nBiorreatores e bioprocessos:
  para carne cultivada e fermentação\n20 min\n14:50 h\nProfa. Luciana e P
 rofa. Erika (UFMG)\nApresentação do projeto desenvolvido com grant do GF
 I\n20 min\n15:10\nProf. Dawidson (UFMG)\nBioimpressão\n20 min\n\n\nModera
 dor (profa. Erika)\nMomento para perguntas\n5 min\n15:35\nGuilherme (GFI)\
 nGrants disponíveis\, inovação e incubadoras (biominas e biotechtown)\,
  case de sucesso de pesquisador que saiu da academia e iniciou uma startup
 /migrou para indústria\n20 min\n15:55\nModerador (profa. Erika)\nFechamen
 to\n5 min
LAST-MODIFIED;VALUE=DATE-TIME:20230613T134511Z
URL:http://150.164.76.86:8080/cac/agenda/13568258082174122366
END:VEVENT
BEGIN:VTIMEZONE
TZID:America/Sao_Paulo
X-LIC-LOCATION:America/Sao_Paulo
BEGIN:STANDARD
DTSTART;VALUE=DATE-TIME:20230225T230000
TZNAME:BRT
TZOFFSETFROM:-0200
TZOFFSETTO:-0300
END:STANDARD
END:VTIMEZONE
END:VCALENDAR
