BEGIN:VCALENDAR
VERSION:2.0
PRODID:-//Plone.org//NONSGML plone.app.event//EN
X-WR-TIMEZONE:America/Sao_Paulo
BEGIN:VEVENT
SUMMARY:Feira da UFMG em [ Entorno da Praca de Servicos]
DTSTART;TZID=America/Sao_Paulo;VALUE=DATE-TIME:20230419T060000
DTEND;TZID=America/Sao_Paulo;VALUE=DATE-TIME:20230419T180000
DTSTAMP;VALUE=DATE-TIME:20260421T150914Z
UID:6bbb899317064b91afe69f7cd431e88d@150.164.76.86:8080
CREATED;VALUE=DATE-TIME:20230206T200549Z
DESCRIPTION:Não serão necessários equipamentos ou serviçso adicionais.
LAST-MODIFIED;VALUE=DATE-TIME:20230207T174122Z
URL:http://150.164.76.86:8080/cac/agenda/13566427098803427117
END:VEVENT
BEGIN:VTIMEZONE
TZID:America/Sao_Paulo
X-LIC-LOCATION:America/Sao_Paulo
BEGIN:STANDARD
DTSTART;VALUE=DATE-TIME:20230225T230000
TZNAME:BRT
TZOFFSETFROM:-0200
TZOFFSETTO:-0300
END:STANDARD
END:VTIMEZONE
END:VCALENDAR
