BEGIN:VCALENDAR
VERSION:2.0
PRODID:-//Plone.org//NONSGML plone.app.event//EN
X-WR-TIMEZONE:America/Sao_Paulo
BEGIN:VEVENT
SUMMARY:Pré-reserva Reunião com diretores e  representantes das IES mine
 iras em [ Auditorio da Reitoria]
DTSTART;TZID=America/Sao_Paulo;VALUE=DATE-TIME:20240528T080000
DTEND;TZID=America/Sao_Paulo;VALUE=DATE-TIME:20240528T180000
DTSTAMP;VALUE=DATE-TIME:20260420T030522Z
UID:15e8c81b3bf44430bbe0fc6bea4c99b4@150.164.76.86:8080
CREATED;VALUE=DATE-TIME:20240527T151942Z
DESCRIPTION:<p><span>reunião com diretores e  representantes das IES min
 eiras</span></p>
LAST-MODIFIED;VALUE=DATE-TIME:20240527T152039Z
URL:http://150.164.76.86:8080/cac/agenda/13545281542737651657
END:VEVENT
BEGIN:VTIMEZONE
TZID:America/Sao_Paulo
X-LIC-LOCATION:America/Sao_Paulo
BEGIN:STANDARD
DTSTART;VALUE=DATE-TIME:20240217T230000
TZNAME:BRT
TZOFFSETFROM:-0200
TZOFFSETTO:-0300
END:STANDARD
END:VTIMEZONE
END:VCALENDAR
