BEGIN:VCALENDAR
VERSION:2.0
PRODID:-//Plone.org//NONSGML plone.app.event//EN
X-WR-TIMEZONE:America/Sao_Paulo
BEGIN:VEVENT
SUMMARY:Feira do Vale do Jequitinhonha 2024 em [ Arena da praça de servi
 ços Entorno da Praca de Servicos]
DTSTART;TZID=America/Sao_Paulo;VALUE=DATE-TIME:20240425T090000
DTEND;TZID=America/Sao_Paulo;VALUE=DATE-TIME:20240515T170000
DTSTAMP;VALUE=DATE-TIME:20260420T014522Z
UID:f642d5f7e1444820991591b364d94d8e@150.164.76.86:8080
CREATED;VALUE=DATE-TIME:20230522T200622Z
DESCRIPTION:Equipamento som e luz
LAST-MODIFIED;VALUE=DATE-TIME:20240221T203208Z
URL:http://150.164.76.86:8080/cac/agenda/13543838166549978611
END:VEVENT
BEGIN:VTIMEZONE
TZID:America/Sao_Paulo
X-LIC-LOCATION:America/Sao_Paulo
BEGIN:STANDARD
DTSTART;VALUE=DATE-TIME:20240217T230000
TZNAME:BRT
TZOFFSETFROM:-0200
TZOFFSETTO:-0300
END:STANDARD
END:VTIMEZONE
END:VCALENDAR
