BEGIN:VCALENDAR
VERSION:2.0
PRODID:-//Plone.org//NONSGML plone.app.event//EN
X-WR-TIMEZONE:America/Sao_Paulo
BEGIN:VEVENT
SUMMARY:Semana de Orientação do Estudante Internacional 2024/1 em [ Aren
 a da praça de serviços]
DTSTART;TZID=America/Sao_Paulo;VALUE=DATE-TIME:20240301T083000
DTEND;TZID=America/Sao_Paulo;VALUE=DATE-TIME:20240301T120000
DTSTAMP;VALUE=DATE-TIME:20260420T044643Z
UID:fc019c867c4b4a22a453506b1b034189@150.164.76.86:8080
CREATED;VALUE=DATE-TIME:20231107T151928Z
DESCRIPTION:<p>Solicitamos\, gentilmente reserva da praça de serviços pa
 ra realização de uma atividade de acolhimento e boas vindas para os estu
 dantes internacionais (dança\, música e lanche). Parte da programação 
 da Semana de Orientação do Estudante Internacional 2024 (SOEI) . Datas: 
 01 de março de 2024\, das 8h30 às 12h - sexta-feira. Será necessário u
 ma caixa de som e um microfone.</p>
LAST-MODIFIED;VALUE=DATE-TIME:20231116T131937Z
URL:http://150.164.76.86:8080/cac/agenda/13512265149613756983
END:VEVENT
BEGIN:VTIMEZONE
TZID:America/Sao_Paulo
X-LIC-LOCATION:America/Sao_Paulo
BEGIN:STANDARD
DTSTART;VALUE=DATE-TIME:20240217T230000
TZNAME:BRT
TZOFFSETFROM:-0200
TZOFFSETTO:-0300
END:STANDARD
END:VTIMEZONE
END:VCALENDAR
