BEGIN:VCALENDAR
VERSION:2.0
PRODID:-//Plone.org//NONSGML plone.app.event//EN
X-WR-TIMEZONE:America/Sao_Paulo
BEGIN:VEVENT
SUMMARY:Manutenção do ar condicionado em [ Auditorio da Reitoria]
DTSTART;TZID=America/Sao_Paulo;VALUE=DATE-TIME:20240603T070000
DTEND;TZID=America/Sao_Paulo;VALUE=DATE-TIME:20240611T220000
DTSTAMP;VALUE=DATE-TIME:20260419T235832Z
UID:d896e210a9fe4a3c9fa57fa3d4f31e23@150.164.76.86:8080
CREATED;VALUE=DATE-TIME:20240529T135736Z
DESCRIPTION:<p>Troca de motor do ar condicionado</p>
LAST-MODIFIED;VALUE=DATE-TIME:20240529T135845Z
URL:http://150.164.76.86:8080/cac/agenda/1350843999199719461
END:VEVENT
BEGIN:VTIMEZONE
TZID:America/Sao_Paulo
X-LIC-LOCATION:America/Sao_Paulo
BEGIN:STANDARD
DTSTART;VALUE=DATE-TIME:20240217T230000
TZNAME:BRT
TZOFFSETFROM:-0200
TZOFFSETTO:-0300
END:STANDARD
END:VTIMEZONE
END:VCALENDAR
