BEGIN:VCALENDAR
VERSION:2.0
PRODID:-//Plone.org//NONSGML plone.app.event//EN
X-WR-TIMEZONE:America/Sao_Paulo
BEGIN:VEVENT
SUMMARY:CAPACIDADE EXCEDIDA em [ Saguao da Reitoria Auditorio da Reitoria 
 Gramado da Reitoria Entorno da Praca de Servicos Auditorio 1A do CAD 1 Aud
 itorio 2A do CAD 1 Arena da praça de serviços Auditório B302 do CAD 3 A
 uditório B101/102 do CAD 3 Auditório B301 do CAD 3]
DTSTART;TZID=America/Sao_Paulo;VALUE=DATE-TIME:20200820T130000
DTEND;TZID=America/Sao_Paulo;VALUE=DATE-TIME:20200821T230000
DTSTAMP;VALUE=DATE-TIME:20260424T211353Z
UID:2cd3600b0cef4fa6b47c4f32586e6b66@150.164.76.86:8080
CREATED;VALUE=DATE-TIME:20200206T124607Z
DESCRIPTION:<p>.</p>
LAST-MODIFIED;VALUE=DATE-TIME:20230111T201048Z
URL:http://150.164.76.86:8080/cac/agenda/13502431385842160728
END:VEVENT
BEGIN:VTIMEZONE
TZID:America/Sao_Paulo
X-LIC-LOCATION:America/Sao_Paulo
BEGIN:STANDARD
DTSTART;VALUE=DATE-TIME:20200215T230000
TZNAME:BRT
TZOFFSETFROM:-0200
TZOFFSETTO:-0300
END:STANDARD
END:VTIMEZONE
END:VCALENDAR
