BEGIN:VCALENDAR
VERSION:2.0
PRODID:-//Plone.org//NONSGML plone.app.event//EN
X-WR-TIMEZONE:America/Sao_Paulo
BEGIN:VEVENT
SUMMARY:I CONGRESSO DA AMCOR  Gestão e Preservação de Bens Culturais - 
 Perspectivas e Desafios em [ Auditorio A104 do Cad 2]
DTSTART;TZID=America/Sao_Paulo;VALUE=DATE-TIME:20201013T080000
DTEND;TZID=America/Sao_Paulo;VALUE=DATE-TIME:20201015T220000
DTSTAMP;VALUE=DATE-TIME:20260424T171917Z
UID:c12c54fe80e840088cd5094c456246b8@150.164.76.86:8080
CREATED;VALUE=DATE-TIME:20200204T165632Z
DESCRIPTION:<p>Equipamentos necessários: data-show\, 3 a 4 microfones\, s
 endo um deles sem fio\, computador\; mesas e cadeiras para a recepção\, 
 mesa para apresentação no palco\, bem como cadeiras. O I Congresso da As
 sociação Mineira de Conservadores-Restauradores – AMCOR\, visa reunir 
 Conservadores-Restauradores\, graduados e pós graduados\, professores e g
 randuandos da área de conservação e restauração de bens culturais. Es
 te evento abre-se também à participação de museólogos\, arquivistas\,
  bibliotecários\, arquitetos\, químicos\, físicos\, biólogos\, histori
 adores\, dentre outros profissionais e estudantes interessados em temas da
  área de preservação\, conservação e restauração de bens culturais.
  Neste I Congresso\, o tema central a ser objeto de reflexão e debate é 
 Gestão e Preservação de Bens Culturais - Perspectivas e Desafios. Além
  de conferências com convidados\, haverá comunicações e apresentação
  de posters por parte dos inscritos no evento. Trata-se de uma proposta qu
 e visa a integrar em torno do tema em questão\, a academia\, bem com a so
 ciedade e profissionais da área.</p>
LAST-MODIFIED;VALUE=DATE-TIME:20200324T171430Z
URL:http://150.164.76.86:8080/cac/agenda/13492222767933119278
END:VEVENT
BEGIN:VTIMEZONE
TZID:America/Sao_Paulo
X-LIC-LOCATION:America/Sao_Paulo
BEGIN:STANDARD
DTSTART;VALUE=DATE-TIME:20200215T230000
TZNAME:BRT
TZOFFSETFROM:-0200
TZOFFSETTO:-0300
END:STANDARD
END:VTIMEZONE
END:VCALENDAR
