BEGIN:VCALENDAR
VERSION:2.0
PRODID:-//Plone.org//NONSGML plone.app.event//EN
X-WR-TIMEZONE:America/Sao_Paulo
BEGIN:VEVENT
SUMMARY:CAPACIDADE EXCEDIDA em [ Saguao da Reitoria Auditorio da Reitoria 
 Gramado da Reitoria Auditorio 1A do CAD 1 Auditorio 2A do CAD 1 Auditorio 
 A102 do Cad 2 Auditorio A104 do Cad 2 Arena da praça de serviços Auditó
 rio B302 do CAD 3 Auditório B101 do CAD 3 Auditório B301 do CAD 3]
DTSTART;TZID=America/Sao_Paulo;VALUE=DATE-TIME:20201130T000000
DTEND;TZID=America/Sao_Paulo;VALUE=DATE-TIME:20201204T230000
DTSTAMP;VALUE=DATE-TIME:20260424T145705Z
UID:e99877acc3a8488bbdabef30d872ff24@150.164.76.86:8080
CREATED;VALUE=DATE-TIME:20200312T162630Z
DESCRIPTION:<p>.</p>
LAST-MODIFIED;VALUE=DATE-TIME:20200312T162654Z
URL:http://150.164.76.86:8080/cac/agenda/13483901291334456777
END:VEVENT
BEGIN:VTIMEZONE
TZID:America/Sao_Paulo
X-LIC-LOCATION:America/Sao_Paulo
BEGIN:DAYLIGHT
DTSTART;VALUE=DATE-TIME:20201018T010000
TZNAME:BRST
TZOFFSETFROM:-0300
TZOFFSETTO:-0200
END:DAYLIGHT
END:VTIMEZONE
END:VCALENDAR
