BEGIN:VCALENDAR
VERSION:2.0
PRODID:-//Plone.org//NONSGML plone.app.event//EN
X-WR-TIMEZONE:America/Sao_Paulo
BEGIN:VEVENT
SUMMARY:Reunião de Equipe  em [ Outros espacos]
DTSTART;TZID=America/Sao_Paulo;VALUE=DATE-TIME:20220610T093000
DTEND;TZID=America/Sao_Paulo;VALUE=DATE-TIME:20220610T120000
DTSTAMP;VALUE=DATE-TIME:20260422T064746Z
UID:b32a795ace7f4e4aae6b4afe660ed8c9@150.164.76.86:8080
CREATED;VALUE=DATE-TIME:20220607T154205Z
DESCRIPTION:<p>.</p>
LAST-MODIFIED;VALUE=DATE-TIME:20220608T112228Z
URL:http://150.164.76.86:8080/cac/agenda/13464885666004392987
END:VEVENT
BEGIN:VTIMEZONE
TZID:America/Sao_Paulo
X-LIC-LOCATION:America/Sao_Paulo
BEGIN:STANDARD
DTSTART;VALUE=DATE-TIME:20220219T230000
TZNAME:BRT
TZOFFSETFROM:-0200
TZOFFSETTO:-0300
END:STANDARD
END:VTIMEZONE
END:VCALENDAR
