BEGIN:VCALENDAR
VERSION:2.0
PRODID:-//Plone.org//NONSGML plone.app.event//EN
X-WR-TIMEZONE:America/Sao_Paulo
BEGIN:VEVENT
SUMMARY:Avaliação da Pós Graduação em Bioquimica e Imuniologia da UFM
 G em [ Auditorio Nobre do CAD 1]
DTSTART;TZID=America/Sao_Paulo;VALUE=DATE-TIME:20240620T140000
DTEND;TZID=America/Sao_Paulo;VALUE=DATE-TIME:20240620T180000
DTSTAMP;VALUE=DATE-TIME:20260420T025823Z
UID:b10ed37464654a96802b5a0ff7596971@150.164.76.86:8080
CREATED;VALUE=DATE-TIME:20240419T113945Z
DESCRIPTION:<p>A avaliação dos cursos de pós-graduação é feita a cad
 a três anos pela Coordenação de Aperfeiçoamento de Pessoal de Nível S
 uperior (Capes/MEC). Todos os cursos de mestrado e doutorado de instituiç
 ões públicas são avaliados e podem receber conceitos que vão de 1 a 7.
  Nossa PG é conceito 7 e de excelencia em nossa Universidade. Essa é uma
  prática importante para garantir a qualidade e a excelência dos cursos 
 de pós-graduação no Brasil. A avaliação periódica permite identifica
 r pontos fortes e áreas que precisam de melhorias\, além de fornecer inf
 ormações valiosas para os estudantes interessados em ingressar nesses cu
 rsos. Este ano teremos 1 professor convidado pelo CAPES-PRINT e Prof da UF
 RJ como convidados externos</p>
LAST-MODIFIED;VALUE=DATE-TIME:20240503T143345Z
URL:http://150.164.76.86:8080/cac/agenda/13447940425527106913
END:VEVENT
BEGIN:VTIMEZONE
TZID:America/Sao_Paulo
X-LIC-LOCATION:America/Sao_Paulo
BEGIN:STANDARD
DTSTART;VALUE=DATE-TIME:20240217T230000
TZNAME:BRT
TZOFFSETFROM:-0200
TZOFFSETTO:-0300
END:STANDARD
END:VTIMEZONE
END:VCALENDAR
