BEGIN:VCALENDAR
VERSION:2.0
PRODID:-//Plone.org//NONSGML plone.app.event//EN
X-WR-TIMEZONE:America/Sao_Paulo
BEGIN:VEVENT
SUMMARY:CAPACIDADE EXCEDIDA em [ Saguao da Reitoria Auditorio da Reitoria 
 Gramado da Reitoria Em torno da Praca de Servicos Auditorio 1A do CAD 1 Au
 ditorio 2A do CAD 1 Arena da praça de serviços Auditório B302 do CAD 3 
 Auditório B101 do CAD 3 Auditório B301 do CAD 3]
DTSTART;TZID=America/Sao_Paulo;VALUE=DATE-TIME:20200806T070000
DTEND;TZID=America/Sao_Paulo;VALUE=DATE-TIME:20200807T170000
DTSTAMP;VALUE=DATE-TIME:20260424T195234Z
UID:7bddfd6afa184a1fba5f0b37d01df96e@150.164.76.86:8080
CREATED;VALUE=DATE-TIME:20200206T123739Z
DESCRIPTION:<p>.</p>
LAST-MODIFIED;VALUE=DATE-TIME:20200206T123919Z
URL:http://150.164.76.86:8080/cac/agenda/13433195625279768412
END:VEVENT
BEGIN:VTIMEZONE
TZID:America/Sao_Paulo
X-LIC-LOCATION:America/Sao_Paulo
BEGIN:STANDARD
DTSTART;VALUE=DATE-TIME:20200215T230000
TZNAME:BRT
TZOFFSETFROM:-0200
TZOFFSETTO:-0300
END:STANDARD
END:VTIMEZONE
END:VCALENDAR
