BEGIN:VCALENDAR
VERSION:2.0
PRODID:-//Plone.org//NONSGML plone.app.event//EN
X-WR-TIMEZONE:America/Sao_Paulo
BEGIN:VEVENT
SUMMARY:Reunião de Equipe da Reitora em [ Outros espacos]
DTSTART;TZID=America/Sao_Paulo;VALUE=DATE-TIME:20230707T093000
DTEND;TZID=America/Sao_Paulo;VALUE=DATE-TIME:20230707T123000
DTSTAMP;VALUE=DATE-TIME:20260421T091539Z
UID:33636990a99f4ff4aeb5198e7a7e5b9d@150.164.76.86:8080
CREATED;VALUE=DATE-TIME:20230623T104941Z
DESCRIPTION:<p>Reunião de Equipe da Reitora</p>
LAST-MODIFIED;VALUE=DATE-TIME:20230623T105017Z
URL:http://150.164.76.86:8080/cac/agenda/13432842081379759487
END:VEVENT
BEGIN:VTIMEZONE
TZID:America/Sao_Paulo
X-LIC-LOCATION:America/Sao_Paulo
BEGIN:STANDARD
DTSTART;VALUE=DATE-TIME:20230225T230000
TZNAME:BRT
TZOFFSETFROM:-0200
TZOFFSETTO:-0300
END:STANDARD
END:VTIMEZONE
END:VCALENDAR
