BEGIN:VCALENDAR
VERSION:2.0
PRODID:-//Plone.org//NONSGML plone.app.event//EN
X-WR-TIMEZONE:America/Sao_Paulo
BEGIN:VEVENT
SUMMARY:Seminários UFMG FHEMIG 2022 - 4ª edição em [ Outros espacos]
DTSTART;TZID=America/Sao_Paulo;VALUE=DATE-TIME:20221207T140000
DTEND;TZID=America/Sao_Paulo;VALUE=DATE-TIME:20221207T160000
DTSTAMP;VALUE=DATE-TIME:20260421T205341Z
UID:e2438482d87645b4b33e0bd1a90a36d9@150.164.76.86:8080
CREATED;VALUE=DATE-TIME:20221027T174041Z
DESCRIPTION:<p>A UFMG e a FHEMIG estão oferecendo essa série de capacita
 ções online abertas ao pessoal da área de saúde. A parceria para 2022 
 prevê a realização de 4 atividades. Portanto essa será a última do an
 o.</p>
LAST-MODIFIED;VALUE=DATE-TIME:20221104T203108Z
URL:http://150.164.76.86:8080/cac/agenda/13392388842593289311
END:VEVENT
BEGIN:VTIMEZONE
TZID:America/Sao_Paulo
X-LIC-LOCATION:America/Sao_Paulo
BEGIN:DAYLIGHT
DTSTART;VALUE=DATE-TIME:20221016T010000
TZNAME:BRST
TZOFFSETFROM:-0300
TZOFFSETTO:-0200
END:DAYLIGHT
END:VTIMEZONE
END:VCALENDAR
